BEGIN:VCALENDAR
VERSION:2.0
PRODID:-//Extensión Universidad de la República (Udelar) - ECPv6.15.13.1//NONSGML v1.0//EN
CALSCALE:GREGORIAN
METHOD:PUBLISH
X-WR-CALNAME:Extensión Universidad de la República (Udelar)
X-ORIGINAL-URL:https://www.extension.udelar.edu.uy
X-WR-CALDESC:Eventos para Extensión Universidad de la República (Udelar)
REFRESH-INTERVAL;VALUE=DURATION:PT1H
X-Robots-Tag:noindex
X-PUBLISHED-TTL:PT1H
BEGIN:VTIMEZONE
TZID:America/Montevideo
BEGIN:STANDARD
TZOFFSETFROM:-0300
TZOFFSETTO:-0300
TZNAME:-03
DTSTART:20230101T000000
END:STANDARD
END:VTIMEZONE
BEGIN:VEVENT
DTSTART;VALUE=DATE:20240718
DTEND;VALUE=DATE:20250719
DTSTAMP:20260423T115138
CREATED:20241230T194245Z
LAST-MODIFIED:20250116T143958Z
UID:17954-1721260800-1752883199@www.extension.udelar.edu.uy
SUMMARY:La Universidad de la República celebra sus 175 años
DESCRIPTION:  \nLa Universidad de la República festeja su 175 aniversario como una Universidad en movimiento al servicio del país. Por eso\, te invitamos a visitar el sitio web conmemorativo donde podrás recorrer su historia\, las distintas transformaciones que ha atravesado y su vínculo con la sociedad. \n  \nLanzamos una web donde podrás recorrer nuestra rica historia: \nVisitá www.udelar.edu.uy/175aniversario/ \nDescarga el Libro Conmemorativo donde a través de tres tomos podrá conocer más sobre la historia\, las perspectivas y los espacios de nuestra Universidad. \nMantente al tanto de las actividades en el marco de nuestro aniversario. \n  \n\n 
URL:https://www.extension.udelar.edu.uy/evento/la-universidad-de-la-republica-celebra-sus-175-anos/
ATTACH;FMTTYPE=image/png:https://www.extension.udelar.edu.uy/wp-content/uploads/2024/12/lanzamientoweb_bannerextension-e1736288390220.png
END:VEVENT
END:VCALENDAR